BEGIN:VCALENDAR
VERSION:2.0
PRODID:-//wp-events-plugin.com//7.2.3.1//EN
TZID:Europe/Berlin
X-WR-TIMEZONE:Europe/Berlin
BEGIN:VEVENT
UID:57@masch-bremen.de
DTSTART;TZID=Europe/Berlin:20251113T190000
DTEND;TZID=Europe/Berlin:20251113T190000
DTSTAMP:20250816T151226Z
URL:https://masch-bremen.de/veranstaltungen-2/artensterben-massentierhaltu
 ng-und-die-vergiftung-der-welt-wie-kapitalistische-herrschaft-die-lebendig
 e-natur-ruiniert/
SUMMARY:Artensterben\, Massentierhaltung und die Vergiftung der Welt: Wie k
 apitalistische Herrschaft die lebendige Natur ruiniert
DESCRIPTION:Wirklich\, wir leben in finsteren Zeiten! Über uns brechen St
 ürme\, Fluten und Dürren herein\; Wälder brennen\; Erde\, Luft und Wass
 er werden vergiftet\;\nunzählige Arten sterben aus\; in Massen gehaltene 
 Tiere erleiden Qualen\; Lebensräume werden drastisch eingeengt\, was Pand
 emien den Boden bereitet. Die\nNatur befindet sich in einem chronischen No
 tstand – eine »einzige Katastrophe\, die unablässig Trümmer auf Trüm
 mer häuft« und sie uns »vor die Füße schleudert« (Walter Benjamin).\
 nVerantwortliche Politiker spielen die allseits gegenwärtige und vieleror
 ts spürbare Dramatik herunter. Zwar gibt es kaum jemanden\, der nicht ob 
 der aussterbenden Arten Sorge trägt\, kaum jemand befürwortet das Leid\,
  das den Lebewesen in der Massentierhaltung zugefügt wird. Aber fast jede
 r behauptet zu wissen\, die ›unschönen‹ Phänomene hätten mit dem 
 ›System‹ nichts zu tun\, sondern seien lediglich dessen Auswüchse\, w
 iewohl nicht gänzlich unvermeidlich\, so doch abzumildern. In Wahrheit si
 nd Artensterben\, Massentierhaltung und Monokulturen der agrar-industriell
 en Plantagen systematisch mit der\nkapitalistischen Produktionsweise verkn
 üpft\, sind nämlich Folgen der Unterwerfung der lebendigen Natur unter d
 en Zweck der Vermehrung des abstrakten\nReichtums. Denn Kapital und lebend
 ige Natur stehen notwendigerweise im Verhältnis des Widerspruchs\, einem 
 Widerspruch\, der nicht auflösbar ist\, der\ngleichwohl profitabel genutz
 t wird und der\, weil fortschreitend prozessierend\, die Art-Formen der Le
 bewesen sukzessive ramponiert und die Arten zum\nSterben bringt. Deswegen 
 sind die Aussichten für die lebendige Natur\, falls die kapitalistische P
 roduktionsweise weiter fortwirkt\, düster.\n\nUlrich Ruschig\, Dr. rer. n
 at.\, Dr. phil. habil.\, Professor für Philosophie. Stand lange Jahre als
  Direktor dem Institut für Philosophie an der Carl von\nOssietzky Univers
 ität Oldenburg vor. Zahlreiche Veröffentlichungen zu Kant\, Hegel\, Marx
  und der Kritischen Theorie. Mehrere Buchpublikationen zum Thema\, zuletzt
 : Ulrich Ruschig Wie kapitalistische Herrschaft die lebendige Natur ruinie
 rt – Artensterben\, Massentierhaltung und die Vergiftung der Welt. Köln
  2025.
LOCATION:Villa Ichon\, Goetheplatz 4\, Bremen\, 28203\, Deutschland
X-APPLE-STRUCTURED-LOCATION;VALUE=URI;X-ADDRESS=Goetheplatz 4\, Bremen\, 28
 203\, Deutschland;X-APPLE-RADIUS=100;X-TITLE=Villa Ichon:geo:0,0
END:VEVENT
BEGIN:VTIMEZONE
TZID:Europe/Berlin
X-LIC-LOCATION:Europe/Berlin
BEGIN:STANDARD
DTSTART:20251026T020000
TZOFFSETFROM:+0200
TZOFFSETTO:+0100
TZNAME:CET
END:STANDARD
END:VTIMEZONE
END:VCALENDAR