BEGIN:VCALENDAR
VERSION:2.0
PRODID:-//wp-events-plugin.com//7.2.3.1//EN
TZID:Europe/Berlin
X-WR-TIMEZONE:Europe/Berlin
BEGIN:VEVENT
UID:59@masch-bremen.de
DTSTART;TZID=Europe/Berlin:20260128T190000
DTEND;TZID=Europe/Berlin:20260128T190000
DTSTAMP:20250816T153457Z
URL:https://masch-bremen.de/veranstaltungen-2/aus-der-niederlage-lernen-de
 r-spanische-buergerkrieg-1936-1939/
SUMMARY:Aus der Niederlage lernen - Der Spanische Bürgerkrieg 1936 - 1939
DESCRIPTION:2026 jährt sich der Beginn des Spanischen Bürgerkriegs zum 90
 . Mal. Trotz der langen Zeitspanne zwischen damals und heute ist der Krieg
  in Spanien im\nkollektiven Gedächtnis der Linken lebendig geblieben.\nEr
 stens wegen der Ermutigung\, die es für uns bedeutet\, wenn sich Menschen
  aus ganz Europa und der halben Welt aufmachen\, um einem Volk im Kampf\ng
 egen den Faschismus beizustehen. Zweitens\, weil allein aus Deutschland\, 
 Österreich und der Schweiz an die 7.000 Männer und Frauen auf Seiten der
  Republik\nkämpften\, was gegen die weitverbreitete Auffassung spricht\, 
 dass es sich nicht lohnt\, in der Zeitgeschichte nach Verbündeten zu such
 en. Drittens\, weil sich\npolitische Grundsatzfragen und Konflikte im Span
 ienkrieg wie unter einem Brennglas zeigen: Geht es darum\, eine bürgerlic
 he Demokratie gegen den\nFaschismus zu verteidigen\, oder soll eine revolu
 tionäre Situation\, wie sie beim Putschversuch der Militärs entstanden w
 ar\, für die Kollektivierung und\nVergesellschaftung aller Produktionsmit
 tel genutzt werden. Am wichtigsten ist die Besinnung auf den Krieg in Span
 ien allerdings deshalb\, weil wir in einer\nZeit leben\, in der die Resign
 ation und Gewöhnung an das herrschende Unrecht immer mehr Menschen erfass
 t. Die Erinnerung an die Spanienkämpfer trägt die\nAufforderung in sich\
 , für mehr Freiheit\, Gerechtigkeit und Gleichheit zu kämpfen. Daran än
 dert auch die Niederlage der Spanischen Republik 1939 nichts:\nParadoxerwe
 ise sind es vor allem die Niederlagen der Vergangenheit\, aus denen sich K
 raft und Mut für die Gegenwart schöpfen lässt. Von diesen Niederlagen\,
  aber auch den Teilerfolgen\, von Hoffnung wie Verzweiflung wird der Autor
  Erich Hackl anhand von Einzelschicksalen berichten\, die er akribisch rec
 herchiert und über die er geschrieben hat.\n\nErich Hackl\, geb. 1954 in 
 Steyr\, lebt als Schriftsteller und literarischer Übersetzer in Wien und 
 Madrid. Er hat u.a. die Anthologien „Geschichten aus der Geschichte des 
 Spanischen Bürgerkriegs“ (mit Cristina Timón Solinís\, 1986) und „S
 o weit uns Spaniens Hoffnung trug“ (2016) sowie gemeinsam mit dem Spanie
 nkämpfer Hans Landauer das „Lexikon der österreichischen Spanienkämpf
 er 1936-1939“ (2003 und 2008) herausgegeben. Der Spanienkrieg ist auch d
 as Thema zahlreicher Erzählungen und Reportagen des Autors (u.a. „Entwu
 rf einer Liebe auf den ersten Blick“\, „Die Hochzeit von Auschwitz“\
 , „Anprobieren eines Vaters“).\n\nDiese Veranstaltung führen wir geme
 insam mit der Arbeitnehmerkammer Bremen durch.
LOCATION:Saal der Arbeitnehmerkammer Bremen\, Bürgerstr. 1\, Bremen\, Brem
 en\, 28195\, Deutschland
X-APPLE-STRUCTURED-LOCATION;VALUE=URI;X-ADDRESS=Bürgerstr. 1\, Bremen\, Br
 emen\, 28195\, Deutschland;X-APPLE-RADIUS=100;X-TITLE=Saal der Arbeitnehme
 rkammer Bremen:geo:0,0
END:VEVENT
BEGIN:VTIMEZONE
TZID:Europe/Berlin
X-LIC-LOCATION:Europe/Berlin
BEGIN:STANDARD
DTSTART:20251026T020000
TZOFFSETFROM:+0200
TZOFFSETTO:+0100
TZNAME:CET
END:STANDARD
END:VTIMEZONE
END:VCALENDAR