BEGIN:VCALENDAR
VERSION:2.0
PRODID:-//wp-events-plugin.com//7.2.3.1//EN
TZID:Europe/Berlin
X-WR-TIMEZONE:Europe/Berlin
BEGIN:VEVENT
UID:62@masch-bremen.de
DTSTART;TZID=Europe/Berlin:20260306T190000
DTEND;TZID=Europe/Berlin:20260306T190000
DTSTAMP:20250817T133800Z
URL:https://masch-bremen.de/veranstaltungen-2/eine-unabhaengige-frau-in-de
 r-ddr-elfriede-bruening-leben-und-wirken/
SUMMARY:Eine unabhängige Frau in der DDR: Elfriede Brüning - Leben und Wi
 rken.
DESCRIPTION:Elfriede Brüning (1910-2004) veröffentlichte mit sechzehn Jah
 ren erste Feuilletons und Reportagen und mit 24 den ersten Roman. Die Gesc
 hlechterverhältnisse\nwaren ihr Thema. Früh setzte sie sich für die Rec
 hte arbeitender Frauen und ihrer Kinder ein. Die drei Romane\, die sie in 
 der Zeit des Nationalsozialismus\npublizierte\, widersprachen dem offiziel
 len Frauenbild: Die Heldinnen kämpften darum\, auch als Ehefrauen berufst
 ätig zu sein.\nNach dem Krieg lebte Brüning in der DDR\, sie erhielt dor
 t keine besondere Förderung als Frauenautorin. Oft wurden ihre Romane als
  „kleinbürgerlich“ eingestuft. Auf literarische Preise wartete sie bi
 s in die achtziger Jahre. Ihre zahlreichen\, zum großen Teil aus den neue
 n Schichten sich qualifizierender arbeitender Frauen stammenden Leserinnen
  und einige sensible Verlagslektorinnen haben sie dennoch vierzig Jahre la
 ng zum Publikumsliebling gekürt: Brüning verkaufte in der DDR mehr als e
 ineinhalb Millionen Bücher.\n\nBrüning schuf auch ein bedeutendes Report
 agewerk\, das ihre Prosa „erdete“. Die kulturpolitischen Auseinanderse
 tzungen\, denen sie sich stellen musste\,\nwerden kontrastiert vom Zuspruc
 h\, den die Autorin durch zahlreiche LeserInnenbriefe erhielt.\n\nSabine K
 ebir ist Autorin von populärwissenschaftlichen Sachbüchern\, Belletristi
 k\, Kinder- u. Jugendbüchern\, freie Publizistin in Presse\, Rundfunk und
  Fernsehen.\n\nDie Veranstaltung findet in Kooperation mit dem Bremer Frau
 enmuseum e.V. statt.
LOCATION:Villa Ichon\, Goetheplatz 4\, Bremen\, 28203\, Deutschland
X-APPLE-STRUCTURED-LOCATION;VALUE=URI;X-ADDRESS=Goetheplatz 4\, Bremen\, 28
 203\, Deutschland;X-APPLE-RADIUS=100;X-TITLE=Villa Ichon:geo:0,0
END:VEVENT
BEGIN:VTIMEZONE
TZID:Europe/Berlin
X-LIC-LOCATION:Europe/Berlin
BEGIN:STANDARD
DTSTART:20251026T020000
TZOFFSETFROM:+0200
TZOFFSETTO:+0100
TZNAME:CET
END:STANDARD
END:VTIMEZONE
END:VCALENDAR