BEGIN:VCALENDAR
VERSION:2.0
PRODID:-//wp-events-plugin.com//7.2.3.1//EN
TZID:Europe/Berlin
X-WR-TIMEZONE:Europe/Berlin
BEGIN:VEVENT
UID:63@masch-bremen.de
DTSTART;TZID=Europe/Berlin:20260318T190000
DTEND;TZID=Europe/Berlin:20260318T190000
DTSTAMP:20250816T160410Z
URL:https://masch-bremen.de/veranstaltungen-2/kuenstliche-intelligenz-als-
 produktivkraft-eine-untersuchung-aus-der-perspektive-des-general-intellect
 -marx/
SUMMARY:Künstliche Intelligenz als Produktivkraft? Eine Untersuchung aus d
 er Perspektive des General Intellect (Marx)
DESCRIPTION:Technische Entwicklungen im Bereich der Künstlichen Intelligen
 z erleben eine hohe Dynamik. Sie stehen zum einen für eine digitalwirtsch
 aftliche\nProduktivkraftentwicklung im Kapitalismus\, führen aber auch zu
  Rückkopplungen auf die gesellschaftliche Betriebsweise. Können wir gar 
 von einem spezifischen KI-Akkumulationsregime sprechen? Eine Analyse aus d
 er Perspektive von Marx‘ General Intellect.\n\nTimo Daum ist Hochschulle
 hrer und Sachbuchautor\, sein Arbeitsschwerpunkt ist der digitale Kapitali
 smus. Sein Buch „Das Kapital sind wir: Zur Kritik der digitalen Ökonomi
 e“ erhielt 2018 den Preis „Das politische Buch“ der Friedrich-Ebert 
 Stiftung.\nTimo Daum lehrt politische Ökonomie der Daten an der Universit
 ät Wien am Fachbereich Politikwissenschaft. Er ist Gast der Forschungsgru
 ppe Digitale Mobilität und gesellschaftliche Differenzierung am Wissensch
 aftszentrum Berlin (WZB).
LOCATION:Bürgerhaus Weserterrassen\, Osterdeich 70b\, Bremen\, Bremen\, 28
 205\, Deutschland
X-APPLE-STRUCTURED-LOCATION;VALUE=URI;X-ADDRESS=Osterdeich 70b\, Bremen\, B
 remen\, 28205\, Deutschland;X-APPLE-RADIUS=100;X-TITLE=Bürgerhaus Weserte
 rrassen:geo:0,0
END:VEVENT
BEGIN:VTIMEZONE
TZID:Europe/Berlin
X-LIC-LOCATION:Europe/Berlin
BEGIN:STANDARD
DTSTART:20251026T020000
TZOFFSETFROM:+0200
TZOFFSETTO:+0100
TZNAME:CET
END:STANDARD
END:VTIMEZONE
END:VCALENDAR