BEGIN:VCALENDAR
VERSION:2.0
PRODID:-//wp-events-plugin.com//7.2.3.1//EN
TZID:Europe/Berlin
X-WR-TIMEZONE:Europe/Berlin
BEGIN:VEVENT
UID:61@masch-bremen.de
DTSTART;TZID=Europe/Berlin:20260218T190000
DTEND;TZID=Europe/Berlin:20260218T190000
DTSTAMP:20250816T155103Z
URL:https://masch-bremen.de/veranstaltungen-2/was-hat-kuenstliche-intellig
 enz-ki-mit-karl-marx-zu-tun/
SUMMARY:Was hat „Künstliche Intelligenz“ (KI) mit Karl Marx zu tun?
DESCRIPTION:Künstliche Intelligenz vollbringt wahre Wunderwerke. Sie entwi
 ckelt selbstlernende Systeme\, die die Leistungsfähigkeit des menschliche
 n Gehirns unendlich\nweit übertreffen. Sie verspricht komplizierte medizi
 nische Operationen ohne Ärzte durchzuführen\, FahrerInnen von Autos durc
 h perfekte Autopiloten zu\nersetzen und anspruchsvolle Texte zu schreiben\
 , die besser sind als die von Menschen. In Gestalt von „Killerdrohnen“
  soll sie militärisch genutzt werden.\nAngesichts dieser Entwicklung wirk
 t die Theorie von Karl Marx und Friedrich Engels wie ein Relikt des 19.Jah
 rhunderts. Aber ist diese Theorie wirklich so\nveraltet\, wie es auf den e
 rsten Blick scheinen mag?\nDer Vortrag von Lothar Peter will zeigen\, dass
  Marx und Engels Erkenntnisse geliefert haben\, die für das Verständnis 
 von KI auch heute noch immer unverzichtbar sind. Das gilt sowohl für ihre
  Analyse der „Wissenschaft als unmittelbarer Produktivkraft“ als auch 
 für ihre Kritik der kapitalistischen Verwertung\ndieser Produktivkraft\, 
 die sich gegenwärtig als „Künstliche Intelligenz“ aller Lebensbereic
 he bemächtigen will. Es geht gleichzeitig um den Widerspruch zwischen „
 Produktivkräften“ und „Produktionsverhältnissen“ (Marx/Engels) und
  wie das mit dem Thema „Künstliche Intelligenz“ zusammenhängt.\n\nLo
 thar Peter war bis 2006 Professor für Soziologie an der Universität Brem
 en. Er veröffentlichte ein umfangreiches wissenschaftliches Werk\, u.a.\n
 "Französische Soziologie der Gegenwart". 2014 erschien "Marx an die Uni. 
 Die 'Marburger Schule'.“
LOCATION:Villa Ichon\, Goetheplatz 4\, Bremen\, 28203\, Deutschland
X-APPLE-STRUCTURED-LOCATION;VALUE=URI;X-ADDRESS=Goetheplatz 4\, Bremen\, 28
 203\, Deutschland;X-APPLE-RADIUS=100;X-TITLE=Villa Ichon:geo:0,0
END:VEVENT
BEGIN:VTIMEZONE
TZID:Europe/Berlin
X-LIC-LOCATION:Europe/Berlin
BEGIN:STANDARD
DTSTART:20251026T020000
TZOFFSETFROM:+0200
TZOFFSETTO:+0100
TZNAME:CET
END:STANDARD
END:VTIMEZONE
END:VCALENDAR